BEGIN:VCALENDAR
PRODID:-//Soapbox Engage//Events iCal//EN
VERSION:2.0
METHOD:PUBLISH
BEGIN:VEVENT
DTSTART:20200730T173000Z
DTEND:20200730T183000Z
DTSTAMP:20211012T151602
DESCRIPTION:Big technology companies have changed daily life across the globe, making us more connected, more efficient, and more mobile. But critics accuse them of violating privacy rights, engaging in anti-competitive behavior, and contributing to our election crises with lax policies on political ads and the spread of disinformation. As a result, the call for them to be more effectively regulated has grown louder in recent years and multiple antitrust investigations have been initiated to review tech market power. What would regulation of technology companies look like? Are the states capable of effective regulation or is federal regulation needed? And what are these companies already doing to respond to critics' concerns? Join the American Constitution Society for a discussion on the future of tech regulation in an increasingly virtual world.&nbsp;  &nbsp;  Featured Speakers:  Leah Nylen, Technology Reporter, Politico,&nbsp;ModeratorDanielle Citron, Professor of Law, Boston University School of Law  Markham&nbsp;Erickson, Vice President of Government Affairs and Public Policy, Google  Tim Wu, Julius Silver Professor of Law, Science, and Technology, Columbia Law School    &nbsp;  The American Constitution Society is a State Bar of California approved CLE provider. This event has been approved for 1.5 hours of California MCLE credit.  For CLE documentation, click here.  As the nation's leading progressive legal organization, ACS is committed to ensuring that all aspects of our events are accessible and enjoyable for all. If you require any accommodations, please contact us at info@acslaw.org.\n\nFor details, click here: https://getinvolved.acslaw.org/index.php?option=com_events&view=event&id=647
SUMMARY:A Brave New World: The Future of Tech Regulation
ORGANIZER;CN=American Constitution Society:MAILTO:info@acslaw.org
UID:647-20200730T133000@americanconstitutionsociety.nonprofitsoapbox.com
SEQUENCE:0
END:VEVENT
END:VCALENDAR
