BEGIN:VCALENDAR
PRODID:-//Soapbox Engage//Events iCal//EN
VERSION:2.0
METHOD:PUBLISH
BEGIN:VEVENT
DTSTART:20200422T170000Z
DTEND:20200422T181500Z
DTSTAMP:20210911T020216
DESCRIPTION:Join ACS for a virtual panel discussion on strategies that law students and new lawyers can use to land a clerkship. The panel will also explore different pathways to the bench.  Featuring:  Welcome Remarks by Russ Feingold, ACS President   Hon. Pamela K. Chen, U.S. District Court for the Eastern District of New York  Hon. Jeffrey I. Cummings, U.S. District Court for the Northern District of Illinois Hon. Darrin P. Gayles, U.S. District Court for the Southern District of Florida Hon. Pamela Harris, U.S. Court of Appeals for the Fourth Circuit Hon. Melissa Hart, Colorado Supreme Court Moderated by Jill Dash, ACS  &nbsp;  As the nation's leading progressive legal organization, ACS is committed to ensuring that all aspects of our events are accessible and enjoyable for all. If you require any accommodations, please contact us at&nbsp;LCemails@acslaw.org.\n\nFor details, click here: https://getinvolved.acslaw.org/index.php?option=com_events&view=event&id=586
SUMMARY:Path to the Bench: Practical Advice From Judges
ORGANIZER;CN=American Constitution Society:MAILTO:info@acslaw.org
UID:586-20200422T130000@americanconstitutionsociety.nonprofitsoapbox.com
SEQUENCE:0
END:VEVENT
END:VCALENDAR
