BEGIN:VCALENDAR
PRODID:-//Soapbox Engage//Events iCal//EN
VERSION:2.0
METHOD:PUBLISH
BEGIN:VEVENT
DTSTART:20200423T200000Z
DTEND:20200423T210000Z
DTSTAMP:20210911T020230
DESCRIPTION:Join the American Constitution Society for a discussion with Michael Klarman on The Degradation of Democracy – and the Courts.&nbsp;&nbsp;This webinar is an installment in our 2020 Student Convention Virtual Series.&nbsp;  Featuring: Michael Klarman,&nbsp;Kirkland and Ellis Professor of Law, Harvard Law School  You can find a link to the recording here.  &nbsp;  Biography:&nbsp;  Professor Michael J. Klarman is the Kirkland and Ellis Professor at Harvard Law School, where he joined the faculty in 2008.&nbsp;He joined the faculty at the University of Virginia School of Law in 1987 and served there until 2008 as the James Monroe Distinguished Professor of Law and Professor of History. In 2009 he was inducted into the American Academy of Arts &amp; Sciences.&nbsp;Klarman has won numerous awards for his teaching and scholarship, which are primarily in the areas of Constitutional Law and Constitutional History. In 2016, Oxford University Press published his comprehensive history of the Founding,&nbsp;The Framers’ Coup: The Making of the US Constitution. That book was a finalist for both the George Washington Book Prize and the American Bar Association’s Silver Gavel Award.&nbsp;Professor Klarman has clerked for the Honorable Ruth Bader Ginsburg on the United States Court of Appeals for the D.C. Circuit (1983-84).&nbsp;He&nbsp;is a graduate of Stanford Law School, University of Oxford,&nbsp;where he was a Marshall Scholar,&nbsp;and University of&nbsp;Pennsylvania,&nbsp;where he&nbsp;received his B.A. and M.A.&nbsp;&nbsp;&nbsp;  As the nation's leading progressive legal organization, ACS is committed to ensuring that all aspects of our events are accessible and enjoyable for all. If you require any accommodations, please contact us at&nbsp;LCemails@acslaw.org.\n\nFor details, click here: https://getinvolved.acslaw.org/index.php?option=com_events&view=event&id=584
SUMMARY:The Degradation of Democracy – and the Courts
ORGANIZER;CN=American Constitution Society:MAILTO:info@acslaw.org
UID:584-20200423T160000@americanconstitutionsociety.nonprofitsoapbox.com
SEQUENCE:0
END:VEVENT
END:VCALENDAR
