BEGIN:VCALENDAR
PRODID:-//Soapbox Engage//Events iCal//EN
VERSION:2.0
METHOD:PUBLISH
BEGIN:VEVENT
DTSTART:20200320T180000Z
DTEND:20200320T190000Z
DTSTAMP:20210911T015944
DESCRIPTION:You can find a recording of the call here.  &nbsp;  Join ACS for a Student Leader Townhall with ACS President Russ Feingold. This event is the first in the Student Convention Virtual Series. Radhe Patel, ACS Harvard Law School Chapter President, will provide introductory remarks. Then, ACS President Russ Feingold will brief attendees on the mission of ACS and the role of ACS student chapters. There will be opportunity for questions and answers.  Introduction by Radhe Patel, ACS Harvard Law School Chapter President  Remarks by Russ Feingold, ACS President  &nbsp;  As the nation's leading progressive legal organization, ACS is committed to ensuring that all aspects of our events are accessible and enjoyable for all. If you require any accommodations, please contact us at&nbsp;LCemails@acslaw.org.\n\nFor details, click here: https://getinvolved.acslaw.org/index.php?option=com_events&view=event&id=569
SUMMARY:Student Leader Virtual Townhall with ACS President Russ Feingold
ORGANIZER;CN=American Constitution Society:MAILTO:info@acslaw.org
UID:569-20200320T140000@americanconstitutionsociety.nonprofitsoapbox.com
SEQUENCE:0
END:VEVENT
END:VCALENDAR
