BEGIN:VCALENDAR
PRODID:-//Soapbox Engage//Events iCal//EN
VERSION:2.0
METHOD:PUBLISH
BEGIN:VEVENT
DTSTART:20191023T160000Z
DTEND:20191023T180000Z
DTSTAMP:20210725T043325
DESCRIPTION:Income inequality has taken center stage in America's political debate. As the 2020 presidential election heats up, candidates on all sides of the political divide are tapping into feelings of economic anxiety fueled by a disappearing middle class and increased concentrations of wealth. Indeed, the continually rising gap between the rich and everyone else has fueled unrest across the globe and has shown itself to have a corrupting effect on democracy itself. Labor law, antitrust law, and tax law all offer potential avenues to help increase wages, grow the middle class, deconsolidate corporate power, and shrink the racial wealth gap. What policy proposals should be on the table? Would increasing antitrust enforcement help? Could a wealth tax be the answer togrowing inequality? What changes to labor law might help reduce income disparities? And perhaps most importantly, what constitutional potholes should advocates make sure to avoid as they go about this work?  Panelists:  Lisa Cylar Barrett, Director of Policy, NAACP Legal Defense &amp; Educational Fund, Inc.Lina Khan,&nbsp;Academic Fellow, Columbia Law School and Counsel, U.S. House Subcommittee on Antitrust, Commercial and Administrative LawAnne Marie Lofaso, Arthur B. Hodges Professor of Law, West Virginia University College of LawGanesh Sitaraman,&nbsp;Chancellor Faculty Fellow and Professor of Law, Vanderbilt Law SchoolDora Chen,&nbsp;Associate General Counsel, Service Employees International Union,&nbsp;Moderator  Lunch begins at noon and the program begins at 12:30pm.  Service Employees International Union1800 Massachusetts Ave NWWashington, DC 20036  The American Constitution Society is a State Bar of California approved CLE provider. This event has been approved for 1.5 hours of California MCLE credit.  As the nation's leading progressive legal organization, ACS is committed to ensuring that all aspects of our events are accessible and enjoyable for all. If you require any accommodations, please contact us either at LCemails@acslaw.org or 202.734.7310.\n\nFor details, click here: https://getinvolved.acslaw.org/index.php?option=com_events&view=event&id=437
SUMMARY:Mind the Gap: How Law Can Address Income Inequality in America
ORGANIZER;CN=American Constitution Society:MAILTO:info@acslaw.org
UID:437-20191023T120000@americanconstitutionsociety.nonprofitsoapbox.com
SEQUENCE:0
END:VEVENT
END:VCALENDAR
