BEGIN:VCALENDAR
PRODID:-//Soapbox Engage//Events iCal//EN
VERSION:2.0
METHOD:PUBLISH
BEGIN:VEVENT
DTSTART:20191004T150000Z
DTEND:20191004T160000Z
DTSTAMP:20210725T042859
DESCRIPTION:As the House’s impeachment inquiry ramps up, join ACS for a briefing call with experts on the procedures and legal standards for impeachment, how those standards apply to the allegations against President Trump, and the implications for our national security. Featured Speakers: Mieke Eoyang, Vice President for the National Security Program, Third Way Michael Gerhardt, Burton Craige Distinguished Professor of Jurisprudence, UNC School of Law Kara Stein, ACS Vice President of Policy &amp; Program, Moderator For resources on the impeachment inquiry, visit the ACS website. The American Constitution Society is a State Bar of California approved CLE provider. This event has been approved for 1&nbsp;hour of California MCLE credit.  As the nation’s leading progressive legal organization, ACS is committed to ensuring that all aspects of our events are accessible and enjoyable for all. If you require any accommodations, please contact us either at&nbsp;LCemails@acslaw.org&nbsp;or 202.734.7310.\n\nFor details, click here: https://getinvolved.acslaw.org/index.php?option=com_events&view=event&id=428
SUMMARY:Impeachment 101
ORGANIZER;CN=American Constitution Society:MAILTO:info@acslaw.org
UID:428-20191004T110000@americanconstitutionsociety.nonprofitsoapbox.com
SEQUENCE:0
END:VEVENT
END:VCALENDAR
