BEGIN:VCALENDAR
PRODID:-//Soapbox Engage//Events iCal//EN
VERSION:2.0
METHOD:PUBLISH
BEGIN:VEVENT
DTSTART:20190904T160000Z
DTEND:20190904T170000Z
DTSTAMP:20210723T150714
DESCRIPTION:Join the Nashville Chapter for a discussion with Hon.&nbsp;Donald B. Verrilli, Jr.,&nbsp;former Solicitor General of the United States, on the upcoming U.S. Supreme Court Term.  Featuring:Hon. Donald B. Verrilli, Jr., Partner,&nbsp;Munger, Tolles &amp; Olson LLP;&nbsp;former Solicitor General of the United States; Member, ACS National Board of Directors  Thank you to our early sponsors for their generous support:  Benefactor: Lieff Cabraser Heimann &amp; Bernstein, LLP; Sherrard Roe Voigt &amp; Harbison, PLCDonor: Bass, Berry &amp; Sims PLC Friend: Bradley Arant Boult Cummings LLP; Branstetter, Stranch &amp; Jennings, PLLCCommunity Sponsor: Southern Environmental Law CenterIndividual Sponsor: Bill Bates  For sponsorship inquiries, please email Peggy Li at&nbsp;pli@acslaw.org.&nbsp;  Lunch is provided for all registered guests.1.0 hour of Tennessee CLE credit is approved for this program. Download CLE Resources&nbsp;here.\n\nFor details, click here: https://getinvolved.acslaw.org/index.php?option=com_events&view=event&id=346
SUMMARY:ACS Nashville: 2019 U.S. Supreme Court Preview
ORGANIZER;CN=American Constitution Society:MAILTO:info@acslaw.org
UID:346-20190904T120000@americanconstitutionsociety.nonprofitsoapbox.com
SEQUENCE:0
END:VEVENT
END:VCALENDAR
