BEGIN:VCALENDAR
PRODID:-//Soapbox Engage//Events iCal//EN
VERSION:2.0
METHOD:PUBLISH
BEGIN:VEVENT
DTSTART:20190808T160000Z
DTEND:20190808T173000Z
DTSTAMP:20210723T150743
DESCRIPTION:Join the ACS Chicago Lawyer Chapter for a panel discussion on strategies that law students and new lawyers can use to land a clerkship.Featuring:Hon. Sharon Johnson Coleman, Judge, United States District Court for the Northern District of IllinoisMichael Fridkin, Senior Staff Attorney, United States Court of Appeals for the Seventh CircuitHon. A. Benjamin Goldgar, Judge, United States Backruptcy Court for the Northern District of IllinoisHon. Mary L. Mikva, Justice, Illinois Appellate Court, First DivisionHon. Michael Y. Scudder, Jr., Judge, United States Court of Appeals for the Seventh CircuitHon. Mary Jane Theis, Justice, Illinois Supreme Court; Member, ACS Chicago Lawyer Chapter Board of AdvisorsModerated by:Charles F. Smith, Partner, Skadden, Arps, Slate, Meagher Flom LLP; Member, ACS Chicago Lawyer Chapter Board of AdvisorsThank you to Skadden, Arps, Slate, Meagher Flom LLP for generously providing lunch for this event.RSVPs and photo IDs are required to enter the building.​​​​​​​\n\nFor details, click here: https://getinvolved.acslaw.org/index.php?option=com_events&view=event&id=345
SUMMARY:ACS Chicago: How to Land a Clerkship: Practical Advice from Judges
ORGANIZER;CN=American Constitution Society:MAILTO:info@acslaw.org
UID:345-20190808T120000@americanconstitutionsociety.nonprofitsoapbox.com
SEQUENCE:0
END:VEVENT
END:VCALENDAR
