BEGIN:VCALENDAR
PRODID:-//Soapbox Engage//Events iCal//EN
VERSION:2.0
METHOD:PUBLISH
BEGIN:VEVENT
DTSTART:20190918T160000Z
DTEND:20190918T170000Z
DTSTAMP:20210723T150635
DESCRIPTION:Join the Georgia Lawyer Chapter of the American Constitution Society for an enlightening discussion of key U.S. Supreme Court cases decided during the last term.Featuring:Robert A. Schapiro, Asa Griggs Candler Professor of Law, Emory University School of Law; Member, ACS Georgia Lawyer Chapter Board of AdvisorsLunch and beverages will be provided.\n\nFor details, click here: https://getinvolved.acslaw.org/index.php?option=com_events&view=event&id=342
SUMMARY:ACS Georgia: U.S. Supreme Court Term Review
ORGANIZER;CN=American Constitution Society:MAILTO:info@acslaw.org
UID:342-20190918T120000@americanconstitutionsociety.nonprofitsoapbox.com
SEQUENCE:0
END:VEVENT
END:VCALENDAR
