BEGIN:VCALENDAR
PRODID:-//Soapbox Engage//Events iCal//EN
VERSION:2.0
METHOD:PUBLISH
BEGIN:VEVENT
DTSTART:20190722T213000Z
DTEND:20190722T230000Z
DTSTAMP:20210723T150654
DESCRIPTION:Join the ACS Northeast Ohio Chapter for a discussion with ACS President Caroline Fredrickson on her new book,&nbsp;The Democracy Fix: How to Win the Fight for Fair Rules, Fair Courts, and Fair Elections. Fredrickson analyzes how the right has seized power at every level of government. She demonstrates how the right ruthlessly focuses on building intellectual capital, winning elections, selecting judges, changing legal rules, promoting fake news, gerrymandering, and suppressing the vote—and then shows how progressives can take government back with their own disciplined and principled counter-attack.Featuring:Caroline Fredrickson, President, American Constitution Society  Immediately following the book discussion, join us for a reception with free food and drinks. The reception will take place from 7:00 p.m. - 8:30 p.m. across the street at Barroco, 12718 Larchmere Boulevard.\n\nFor details, click here: https://getinvolved.acslaw.org/index.php?option=com_events&view=event&id=340
SUMMARY:ACS Northeast Ohio: "The Democracy Fix" with Caroline Fredrickson
ORGANIZER;CN=American Constitution Society:MAILTO:info@acslaw.org
UID:340-20190722T173000@americanconstitutionsociety.nonprofitsoapbox.com
SEQUENCE:0
END:VEVENT
END:VCALENDAR
