BEGIN:VCALENDAR
PRODID:-//Soapbox Engage//Events iCal//EN
VERSION:2.0
METHOD:PUBLISH
BEGIN:VEVENT
DTSTART:20190713T153000Z
DTEND:20190713T163000Z
DTSTAMP:20210723T150620
DESCRIPTION:Join the ACS Madison Lawyer Chapter, The Madison Institute, the League of Women Voters of Wisconsin, Common Cause Wisconsin, and the Wisconsin Democracy Campaign for a discussion on the For the People Act of 2019. The bill was introduced in the U.S. House of Representatives in January 2019 and contains provisions concerning government ethics, voting rights, and campaign finance reform.Featuring:Rep.&nbsp;Mark Pocan, 2nd Congressional District of WisconsinThis event is free and open to the public.ACS is a nonprofit 501(c)(3) educational organization. It does not take positions on candidates or legislation.\n\nFor details, click here: https://getinvolved.acslaw.org/index.php?option=com_events&view=event&id=338
SUMMARY:ACS Madison: Making Democracy Work: An Update on H.R. 1
ORGANIZER;CN=American Constitution Society:MAILTO:info@acslaw.org
UID:338-20190713T113000@americanconstitutionsociety.nonprofitsoapbox.com
SEQUENCE:0
END:VEVENT
END:VCALENDAR
