BEGIN:VCALENDAR
PRODID:-//Soapbox Engage//Events iCal//EN
VERSION:2.0
METHOD:PUBLISH
BEGIN:VEVENT
DTSTART:20190628T130000Z
DTEND:20190628T150000Z
DTSTAMP:20210723T150535
DESCRIPTION:The American Constitution Society&nbsp; Invites You to Attend:  The 2018-2019 Supreme Court Review  On June 28, ACS will host its annual panel discussion at the National Press Club reviewing the current Supreme Court Term as it draws to a close. Leading experts will discuss the Court's noteworthy decisions and analyze emerging trends.&nbsp;  &nbsp;  Panelists&nbsp;  Thomas Goldstein,&nbsp; Partner, Goldstein and Russell, P.C.; Co-Founder and Publisher of SCOTUSblog,&nbsp;Moderator  Charlotte Garden, Co-Associate Dean for Research and Faculty Development and Associate Professor of Law, Seattle University School of Law&nbsp;  Gillian Metzger, Stanley H. Fuld Professor of Law, Columbia Law School&nbsp;  Ngozi Ndulue, Senior Director of Research and Special Projects, Death Penalty Information Center&nbsp;  Daniel Tokaji, Associate Dean for Faculty and The Charles W. Ebersold and Florence Whitcomb Ebersold Professor of Constitutional Law, The Ohio State University Moritz College of Law&nbsp;  Jason Torchinsky, Partner, Holtzman Vogel Josefiak Torchinsky PLLC   Friday, June 28, 2019 9:00am -11:00am&nbsp; Breakfast begins at 9:00&nbsp;and the program begins at 9:30 am. The National Press Club Ballroom 529 14th Street, NW, 13th Floor Washington, DC 20045  The American Constitution Society is a State Bar of California approved CLE provider. This event has been approved for 1.5&nbsp;hours of California MCLE credit.  &nbsp;  &nbsp;\n\nFor details, click here: https://getinvolved.acslaw.org/index.php?option=com_events&view=event&id=336
SUMMARY:Supreme Court Review 2018-2019
ORGANIZER;CN=American Constitution Society:MAILTO:info@acslaw.org
UID:336-20190628T090000@americanconstitutionsociety.nonprofitsoapbox.com
SEQUENCE:0
END:VEVENT
END:VCALENDAR
