BEGIN:VCALENDAR
PRODID:-//Soapbox Engage//Events iCal//EN
VERSION:2.0
METHOD:PUBLISH
BEGIN:VEVENT
DTSTART:20190523T153000Z
DTEND:20190523T163000Z
DTSTAMP:20210723T145818
DESCRIPTION:Please select ONE ticket then fill out the information below to register. You will receive credentials to join the call in your inbox. If you would like to submit questions in advance, email media@acslaw.org.&nbsp;  Join ACS President Caroline Fredrickson,&nbsp;Lisa Graves, and Jamal Greene for a discussion of the new exposé by The Washington Post, which documents a well-financed network of wealthy donors who install judges&nbsp;sympathetic to a far-right agenda. The Post’s reporting builds on research supported by ACS; contributing researchers and experts will&nbsp;discuss the implications of the far-right's&nbsp;strategy on&nbsp;the courts and for future nominations fights, and how to defend our courts from attacks to&nbsp;core freedoms and principles.The Washington Post has shined a much-needed light on the dark money network behind the far right’s ongoing, multi-year effort to reshape the judiciary and accomplish through the courts what they failed to accomplish legislatively. And it has exposed the alarming role that Leonard Leo plays as President Trump’s judge picker and chief orchestrator of the dark money machinations that are turning the judiciary into a powerful tool for corporate interests.  Featuring:Caroline Fredrickson, ACS PresidentLisa Graves, Co-Director, Documented InvestigationsJamal Greene, Dwight Professor of Law, Columbia Law School\n\nFor details, click here: https://getinvolved.acslaw.org/index.php?option=com_events&view=event&id=313
SUMMARY:Dark Money Reshaping Judiciary
ORGANIZER;CN=American Constitution Society:MAILTO:info@acslaw.org
UID:313-20190523T113000@americanconstitutionsociety.nonprofitsoapbox.com
SEQUENCE:0
END:VEVENT
END:VCALENDAR
