BEGIN:VCALENDAR
PRODID:-//Soapbox Engage//Events iCal//EN
VERSION:2.0
METHOD:PUBLISH
BEGIN:VEVENT
DTSTART:20210325T223000Z
DTEND:20210325T233000Z
DTSTAMP:20210625T222233
DESCRIPTION:Tribal nations, and the inherent sovereignty they exercise, predate the U.S. Constitution. Although the Constitution discusses "Indians not taxed" and the power of Congress to regulate commerce with "Indian tribes," it mostly recognizes the otherness of tribal sovereignty. Tribal nations have tirelessly fought to protect their sovereignty against encroachments of federal and state law in the form of both legislation and common law.  Join the ACS DC, Austin, and Los Angeles Lawyer Chapters, and the Native American Bar Association of Washington, D.C. for a discussion that will focus on tribal sovereignty and how tribal nations interact with the federal and state governments. We hope to discuss the historical context, legal theory, and real world application of tribal sovereignty and the challenges that tribal nations face today. To help guide the discussion we are joined by a tribal leader, a leading Indian law scholar, and a general counsel of a tribal consortium. Featuring:Matthew Fletcher, Professor, Michigan State University College of LawLeonard Forsman, Chairman, Suquamish TribeNatasha Singh, General Counsel, Tanana Chiefs Conference Moderated by:Josh Clause, Principal, Clause Law P.L.L.C.  &nbsp;  As the nation's leading progressive legal organization, ACS is committed to ensuring that all aspects of our events are accessible and enjoyable for all. If you require any accommodations, please contact us at&nbsp;LCemails@acslaw.org.\n\nFor details, click here: http://getinvolved.acslaw.org/index.php?option=com_events&view=event&id=820
SUMMARY:ACS DC: Sovereignty and Status Series: Tribal Nations Today
ORGANIZER;CN=American Constitution Society:MAILTO:info@acslaw.org
UID:820-20210325T183000@americanconstitutionsociety.nonprofitsoapbox.com
SEQUENCE:0
END:VEVENT
END:VCALENDAR
