BEGIN:VCALENDAR
PRODID:-//Soapbox Engage//Events iCal//EN
VERSION:2.0
METHOD:PUBLISH
BEGIN:VEVENT
DTSTART:20210124T220000Z
DTEND:20210124T230000Z
DTSTAMP:20210803T091522
DESCRIPTION:In December, when we initially decided to host a reading group on repair and reform of our republic's democratic institutions, we thought it would focus retrospectively on the last four years. We could not have imagined the strain on those institutions that January would bring.&nbsp;  Join us as we discuss thoughts, tactics, and strategies for approaching the work of repairing and reforming America's democratic institutions. Articles and opinion pieces will be circulated prior to the conversation, but feel free to read one, all, or none of them--the important thing is to show up informed and ready to engage on the topic.  If you'd like to join, please email Conor Tucker at&nbsp;conor.denali.tucker@gmail.com.  &nbsp;  As the nation's leading progressive legal organization, ACS is committed to ensuring that all aspects of our events are accessible and enjoyable for all. If you require any accommodations, please contact us at&nbsp;LCemails@acslaw.org.\n\nFor details, click here: http://getinvolved.acslaw.org/index.php?option=com_events&view=event&id=767
SUMMARY:ACS Los Angeles: Repair and Reform of our Democratic Institutions- January Reading Group
ORGANIZER;CN=American Constitution Society:MAILTO:info@acslaw.org
UID:767-20210124T140000@americanconstitutionsociety.nonprofitsoapbox.com
SEQUENCE:0
END:VEVENT
END:VCALENDAR
