BEGIN:VCALENDAR
PRODID:-//Soapbox Engage//Events iCal//EN
VERSION:2.0
METHOD:PUBLISH
BEGIN:VEVENT
DTSTART:20210114T190000Z
DTEND:20210114T200000Z
DTSTAMP:20210803T091416
DESCRIPTION:Please join us for the January briefing from the ACS Programs Team, where an ACS staff member will share programming thoughts and ideas on a specific topic and answer questions you may have. These meetings are designed for ACS student and lawyer chapter leaders, and specifically leaders who work on developing a chapter's programming. This month's topic will be announced soon.  &nbsp;  As the nation's leading progressive legal organization, ACS is committed to ensuring that all aspects of our events are accessible and enjoyable for all. If you require any accommodations, please contact us at&nbsp;LCemails@acslaw.org.\n\nFor details, click here: http://getinvolved.acslaw.org/index.php?option=com_events&view=event&id=761
SUMMARY:Monthly ACS Chapter Leader Programming Meeting
ORGANIZER;CN=American Constitution Society:MAILTO:info@acslaw.org
UID:761-20210114T140000@americanconstitutionsociety.nonprofitsoapbox.com
SEQUENCE:0
END:VEVENT
END:VCALENDAR
