BEGIN:VCALENDAR
PRODID:-//Soapbox Engage//Events iCal//EN
VERSION:2.0
METHOD:PUBLISH
BEGIN:VEVENT
DTSTART:20200428T170000Z
DTEND:20200428T180000Z
DTSTAMP:20210422T041532
DESCRIPTION:You can find a recording of this panel here.  While many of the significant legal questions concerning Wisconsin’s Spring 2020 elections were ultimately resolved by conservative majorities on both the Wisconsin and United States Supreme Courts, the litigation surrounding election administration in Wisconsin began weeks before April 7, 2020—and some of it continues.  Join the Wisconsin chapters of the American Constitution Society for a discussion with several Wisconsin election experts, including a number of attorneys who worked on the initial election litigation, as we discuss what the rulings mean for other upcoming elections in Wisconsin and beyond. Featuring: Doug Poland, Member, Rathje Woodward LLC; Plaintiffs’ Counsel in Lewis v. Knudson and Gear v. Knudson; Member, ACS Madison Lawyer Chapter Board of Directors Stacie Rosenzweig, Partner, Halling &amp; Cayo, S.C.; Plaintiffs’ Counsel in Edwards v. Vos Sopen Shah, Associate, Perkins Coie LLP; Plaintiffs’ Counsel in Democratic National Committee v. Bostelmann; Member, ACS Madison Lawyer Chapter Board of Directors Moderated By: Atiba Ellis, Professor of Law and ACS Faculty Advisor, Marquette University Law School A representative for the WI State Legislature’s legal team was invited to speak on this panel and declined.  &nbsp;  As the nation's leading progressive legal organization, ACS is committed to ensuring that all aspects of our events are accessible and enjoyable for all. If you require any accommodations, please contact us at&nbsp;LCemails@acslaw.org.\n\nFor details, click here: http://getinvolved.acslaw.org/index.php?option=com_events&view=event&id=593
SUMMARY:ACS Wisconsin: Litigation Over Wisconsin’s Spring 2020 Election
ORGANIZER;CN=American Constitution Society:MAILTO:info@acslaw.org
UID:593-20200428T120000@americanconstitutionsociety.nonprofitsoapbox.com
SEQUENCE:0
END:VEVENT
END:VCALENDAR
