BEGIN:VCALENDAR
PRODID:-//Soapbox Engage//Events iCal//EN
VERSION:2.0
METHOD:PUBLISH
BEGIN:VEVENT
DTSTART:20200423T210000Z
DTEND:20200423T223000Z
DTSTAMP:20210911T020242
DESCRIPTION:In an effort to counteract the spread of COVID-19 and preserve the health of our members and their communities, ACS made the difficult decision to cancel the 2020 Student Convention at Harvard Law School. However, through our digital programming we have reaffirmed our commitments to each other’s wellbeing, the rule of law, and the promises of our Constitution are as strong as ever. Join ACS for a virtual happy hour to close out the 2020 Student Convention Speaker Series as we celebrate our individual and collective strength, and look forward to brighter days ahead.All attendees will be sent dial-in information prior to the event.  &nbsp;  As the nation's leading progressive legal organization, ACS is committed to ensuring that all aspects of our events are accessible and enjoyable for all. If you require any accommodations, please contact us at&nbsp;LCemails@acslaw.org.\n\nFor details, click here: http://getinvolved.acslaw.org/index.php?option=com_events&view=event&id=587
SUMMARY:Virtual Happy Hour: A Toast to Resiliency
ORGANIZER;CN=American Constitution Society:MAILTO:info@acslaw.org
UID:587-20200423T170000@americanconstitutionsociety.nonprofitsoapbox.com
SEQUENCE:0
END:VEVENT
END:VCALENDAR
