BEGIN:VCALENDAR
PRODID:-//Soapbox Engage//Events iCal//EN
VERSION:2.0
METHOD:PUBLISH
BEGIN:VEVENT
DTSTART:20200409T180000Z
DTEND:20200409T190000Z
DTSTAMP:20210911T020144
DESCRIPTION:Join the ACS Chapters Team for another installment of our 2020 Student Convention Virtual Series!&nbsp;This panel will feature current mayors discussing innovations in local government. Recent legal and political developments demonstrate the powerful role that cities and local governments play in our society. Whether as innovators of progressive public policy, leaders for social change, or bulwarks of resistance, cities shape the law and politics in unique ways. This panel will tell the story of progressive localities through their leaders—local mayors. Featuring:Hon. Chokwe&nbsp;Antar&nbsp;Lumumba,&nbsp;Mayor of Jackson, MSHon.&nbsp;Sumbul&nbsp;Siddiqui, Mayor of Cambridge, MAModerated By: Jonathan Miller, Legal Director, Public Rights Project; Lecturer in Law, Harvard Law SchoolAll attendees will be sent dial-in information upon registration.  &nbsp;  &nbsp;    As the nation's leading progressive legal organization, ACS is committed to ensuring that all aspects of our events are accessible and enjoyable for all. If you require any accommodations, please contact us at&nbsp;LCemails@acslaw.org.\n\nFor details, click here: http://getinvolved.acslaw.org/index.php?option=com_events&view=event&id=582
SUMMARY:Innovations in Local Leadership
ORGANIZER;CN=American Constitution Society:MAILTO:info@acslaw.org
UID:582-20200409T140000@americanconstitutionsociety.nonprofitsoapbox.com
SEQUENCE:0
END:VEVENT
END:VCALENDAR
