BEGIN:VCALENDAR
PRODID:-//Soapbox Engage//Events iCal//EN
VERSION:2.0
METHOD:PUBLISH
BEGIN:VEVENT
DTSTART:20200331T200000Z
DTEND:20200331T210000Z
DTSTAMP:20210911T020044
DESCRIPTION:Join the ACS Student Chapters Team for another installment of our 2020 Student Convention Virtual Series! This panel seeks to bring together those using courageous, creative litigation to take on powerful, systemic behemoths whose vast stature, resources, and political clout seems to put them beyond legal liability. We will discuss the strategy, philosophy, and grit needed for legal "Davids" to successfully hold societal "Goliaths" to account. Featuring:Randolph Chen, Assistant Attorney General, Office of the Attorney General for the District of ColumbiaKalpana Kotagal, Partner, Cohen MilsteinToby Merrill, Founder and Director, Project on Predatory Student Lending, Harvard Law SchoolSharmila L. Murthy,&nbsp;Associate Professor of Law &amp; ACS Faculty Advisor, Suffolk University Law SchoolModerated by:Katie Cion, Programs Director, ACS Harvard Law School Student Chapter  &nbsp;  &nbsp;  As the nation's leading progressive legal organization, ACS is committed to ensuring that all aspects of our events are accessible and enjoyable for all. If you require any accommodations, please contact us at&nbsp;LCemails@acslaw.org.\n\nFor details, click here: http://getinvolved.acslaw.org/index.php?option=com_events&view=event&id=577
SUMMARY:Creative Lawyering: Fighting Goliath
ORGANIZER;CN=American Constitution Society:MAILTO:info@acslaw.org
UID:577-20200331T160000@americanconstitutionsociety.nonprofitsoapbox.com
SEQUENCE:0
END:VEVENT
END:VCALENDAR
