BEGIN:VCALENDAR
PRODID:-//Soapbox Engage//Events iCal//EN
VERSION:2.0
METHOD:PUBLISH
BEGIN:VEVENT
DTSTART:20200326T180000Z
DTEND:20200326T190000Z
DTSTAMP:20210911T020018
DESCRIPTION:Join Alex Gulotta and Hannah Klain for a discussion on the 2020 voting landscape and how students can get involved in voter protection efforts.&nbsp; From the history of voting rights and the impact of the Shelby County decision to our current global pandemic, ensuring the right to vote in 2020 is no small task!&nbsp; Learn about how you can play your part to support fair, efficient, and safe elections for all.&nbsp; &nbsp;&nbsp; Featuring: Alex Gulotta, Arizona State Director, All Voting is Local Hannah Klain, Equal Justice Works Selbin Family Fellow, Democracy Program, Brennan Center for Justice  &nbsp;  As the nation's leading progressive legal organization, ACS is committed to ensuring that all aspects of our events are accessible and enjoyable for all. If you require any accommodations, please contact us at&nbsp;LCemails@acslaw.org.\n\nFor details, click here: http://getinvolved.acslaw.org/index.php?option=com_events&view=event&id=572
SUMMARY:Protecting the Right to Vote in 2020
ORGANIZER;CN=American Constitution Society:MAILTO:info@acslaw.org
UID:572-20200326T140000@americanconstitutionsociety.nonprofitsoapbox.com
SEQUENCE:0
END:VEVENT
END:VCALENDAR
