BEGIN:VCALENDAR
PRODID:-//Soapbox Engage//Events iCal//EN
VERSION:2.0
METHOD:PUBLISH
BEGIN:VEVENT
DTSTART:20191024T000000Z
DTEND:20191024T020000Z
DTSTAMP:20210725T043408
DESCRIPTION:After the Fail State screening on October 23, join the ACS North Carolina Lawyer Chapter, the ACS University of North Carolina Student Chapter, the ACS North Carolina Central School of Law, and the ACS Duke University School of Law for an after-party!  We will send an announcement to all registrants when a location is chosen.ACS will cover light snacks and beverages.    As the nation’s leading progressive legal organization, ACS is committed to ensuring that all aspects of our events are accessible and enjoyable for all. If you require any accommodations, please contact us either at&nbsp;LCemails@acslaw.org&nbsp;or 202.734.7310.\n\nFor details, click here: http://getinvolved.acslaw.org/index.php?option=com_events&view=event&id=438
SUMMARY:ACS North Carolina: Post-Screening After-Party
ORGANIZER;CN=American Constitution Society:MAILTO:info@acslaw.org
UID:438-20191023T200000@americanconstitutionsociety.nonprofitsoapbox.com
SEQUENCE:0
END:VEVENT
END:VCALENDAR
