BEGIN:VCALENDAR
PRODID:-//Soapbox Engage//Events iCal//EN
VERSION:2.0
METHOD:PUBLISH
BEGIN:VEVENT
DTSTART:20191018T200000Z
DTEND:20191018T220000Z
DTSTAMP:20210725T043308
DESCRIPTION:Join the ACS Oregon Lawyer Chapter, the ACS Lewis &amp; Clark Law School Student Chapter, the ACS University of Oregon School of Law Student Chapter, and the ACS Willamette University College of Law Student Chapter for a fall social! Attendees will have a chance to network, chat with their ACS leaders, and plan upcoming events.  Snacks will be provided.  &nbsp;    As the nation’s leading progressive legal organization, ACS is committed to ensuring that all aspects of our events are accessible and enjoyable for all. If you require any accommodations, please contact us either at&nbsp;LCemails@acslaw.org&nbsp;or 202.734.7310.\n\nFor details, click here: http://getinvolved.acslaw.org/index.php?option=com_events&view=event&id=435
SUMMARY:ACS Oregon: Fall Social
ORGANIZER;CN=American Constitution Society:MAILTO:info@acslaw.org
UID:435-20191018T160000@americanconstitutionsociety.nonprofitsoapbox.com
SEQUENCE:0
END:VEVENT
END:VCALENDAR
