BEGIN:VCALENDAR
PRODID:-//Soapbox Engage//Events iCal//EN
VERSION:2.0
METHOD:PUBLISH
BEGIN:VEVENT
DTSTART:20191101T170000Z
DTEND:20191101T180000Z
DTSTAMP:20210725T043250
DESCRIPTION:Join the ACS Madison Lawyer Chapter for a discussion with Hon. Donald B. Verrilli, Jr., the former Solicitor General of the United States, on politics and the rule of law.Featuring:Hon. Donald B. Verrilli, Jr., Partner, Munger, Tolles &amp; Olson LLP; former Solicitor General of the United States; Member, ACS National Board of Directors  This discussion is free and open to the public.1.0 hour of CLE credit is pending for this event.    As the nation’s leading progressive legal organization, ACS is committed to ensuring that all aspects of our events are accessible and enjoyable for all. If you require any accommodations, please contact us either at&nbsp;LCemails@acslaw.org&nbsp;or 202.734.7310.\n\nFor details, click here: http://getinvolved.acslaw.org/index.php?option=com_events&view=event&id=434
SUMMARY:ACS Madison: Politics and the Rule of Law
ORGANIZER;CN=American Constitution Society:MAILTO:info@acslaw.org
UID:434-20191101T120000@americanconstitutionsociety.nonprofitsoapbox.com
SEQUENCE:0
END:VEVENT
END:VCALENDAR
