BEGIN:VCALENDAR
PRODID:-//Soapbox Engage//Events iCal//EN
VERSION:2.0
METHOD:PUBLISH
BEGIN:VEVENT
DTSTART:20191107T180000Z
DTEND:20191107T190000Z
DTSTAMP:20210725T043230
DESCRIPTION:Join the ACS Madison Lawyer Chapter, the ACS University of Wisconsin Law School Student Chapter, and The Madison Institute for a discussion with Alla Lefkowitz on the groundbreaking Wisconsin Supreme Court case Daniel v. Armslist and the ruling’s implications today. Featuring:Alla Lefkowitz, Director of Affirmative Litigation, Everytown for Gun Safety  &nbsp;  1.0 hour of CLE credit is pending for this event.This discussion is free and open to the public.    As the nation’s leading progressive legal organization, ACS is committed to ensuring that all aspects of our events are accessible and enjoyable for all. If you require any accommodations, please contact us either at&nbsp;LCemails@acslaw.org&nbsp;or 202.734.7310.\n\nFor details, click here: http://getinvolved.acslaw.org/index.php?option=com_events&view=event&id=433
SUMMARY:ACS Madison: Daniel v. Armslist: Can there be liability for online gun sales?
ORGANIZER;CN=American Constitution Society:MAILTO:info@acslaw.org
UID:433-20191107T120000@americanconstitutionsociety.nonprofitsoapbox.com
SEQUENCE:0
END:VEVENT
END:VCALENDAR
