BEGIN:VCALENDAR
PRODID:-//Soapbox Engage//Events iCal//EN
VERSION:2.0
METHOD:PUBLISH
BEGIN:VEVENT
DTSTART:20191008T160000Z
DTEND:20191008T170000Z
DTSTAMP:20210725T043156
DESCRIPTION:Join the ACS Chicago Lawyer Chapter, the ACS Chicago-Kent College of Law Student Chapter, the Chicago-Kent College of Law Lambdas, and the Chicago-Kent College of Law Diversity Committee for a panel discussion about three Supreme Court cases that ask whether Title VII prohibits employment discrimination based on sexual orientation and gender identity (Bostock v. Clayton County, Altitude Express v. Zarda, and R.G. &amp; G. R. Harris Funeral Homes v. EEOC).  &nbsp;  Featuring:Hon. Jim Snyder, Associate Judge, Circuit Court of Cook County (Law Division) Kathy Baker, Professor of Law, University Distinguished Professor, and Associate Dean for Administration and Strategic Initiatives, Chicago-Kent College of LawJoey Carrillo, Intern, Legal Assistance FoundationLori Ecker, Attorney, Law Office of Lori D. Ecker&nbsp;Anthony Kreis, Visiting Assistant Professor of Law, Chicago-Kent College of Law    As the nation’s leading progressive legal organization, ACS is committed to ensuring that all aspects of our events are accessible and enjoyable for all. If you require any accommodations, please contact us either at&nbsp;LCemails@acslaw.org&nbsp;or 202.734.7310.\n\nFor details, click here: http://getinvolved.acslaw.org/index.php?option=com_events&view=event&id=432
SUMMARY:ACS Chicago: Bostock v. Clayton County - Does Title VII Protect LGBTQ Workers?
ORGANIZER;CN=American Constitution Society:MAILTO:info@acslaw.org
UID:432-20191008T120000@americanconstitutionsociety.nonprofitsoapbox.com
SEQUENCE:0
END:VEVENT
END:VCALENDAR
