BEGIN:VCALENDAR
PRODID:-//Soapbox Engage//Events iCal//EN
VERSION:2.0
METHOD:PUBLISH
BEGIN:VEVENT
DTSTART:20191016T210000Z
DTEND:20191017T000000Z
DTSTAMP:20210725T043211
DESCRIPTION:Please note that registration for this event is at capacity. If you would like to place your name on the waitlist, please register with a "Waitlist" ticket above and we will contact you if space becomes available.&nbsp;  Join the ACS Chicago Lawyer Chapter, the Cook County Bar Association, Hughes Socol Piers Resnick &amp; Dym, Ltd., Nixon Peabody LLP for a forum with the candidates running for the Illinois Supreme Court.Seating is very limited, so please register early. After registration is closed, we will start a waitlist. Media will be present.Featuring:Hon. Cynthia Y. CobbsDaniel EpsteinHon. Shelly A. HarrisHon. Nathaniel Howse Hon. Margaret S. McBrideHon. P. Scott Neville Jr. Hon. Jesse Reyes  Moderated By:  Christopher Wilmes, Shareholder,&nbsp;Hughes Socol Piers Resnick &amp; Dym, Ltd  A reception with appetizers, beer, and wine will follow. ACS does not endorse any candidate or political party. Views expressed by the speakers reflect their individual opinions and should not be attributed to ACS.    As the nation’s leading progressive legal organization, ACS is committed to ensuring that all aspects of our events are accessible and enjoyable for all. If you require any accommodations, please contact us either at&nbsp;LCemails@acslaw.org&nbsp;or 202.734.7310.\n\nFor details, click here: http://getinvolved.acslaw.org/index.php?option=com_events&view=event&id=431
SUMMARY:ACS Chicago: Illinois Supreme Court Candidate Forum
ORGANIZER;CN=American Constitution Society:MAILTO:info@acslaw.org
UID:431-20191016T170000@americanconstitutionsociety.nonprofitsoapbox.com
SEQUENCE:0
END:VEVENT
END:VCALENDAR
