BEGIN:VCALENDAR
PRODID:-//Soapbox Engage//Events iCal//EN
VERSION:2.0
METHOD:PUBLISH
BEGIN:VEVENT
DTSTART:20191008T220000Z
DTEND:20191008T233000Z
DTSTAMP:20210725T043134
DESCRIPTION:Join the ACS Milwaukee Lawyer Chapter and the ACS Marquette University Law School Student Chapter for a happy hour! Attendees will have a chance to network, chat with their ACS leaders, and meet the eager and progressive legal minds of tomorrow. Craig Mastantuono will provide remarks on the ACS network and pipeline to the judiciary. We hope to see you there!  Featuring:Craig Mastantuono, Partner, Mastantuono &amp; Coffee SC; Chair, ACS Milwaukee Lawyer Chapter    As the nation’s leading progressive legal organization, ACS is committed to ensuring that all aspects of our events are accessible and enjoyable for all. If you require any accommodations, please contact us either at&nbsp;LCemails@acslaw.org&nbsp;or 202.734.7310.\n\nFor details, click here: http://getinvolved.acslaw.org/index.php?option=com_events&view=event&id=430
SUMMARY:ACS Milwaukee: Meet the Eager Progressive Legal Minds of Tomorrow - A Happy Hour with the ACS Marquette Law School Student Chapter
ORGANIZER;CN=American Constitution Society:MAILTO:info@acslaw.org
UID:430-20191008T180000@americanconstitutionsociety.nonprofitsoapbox.com
SEQUENCE:0
END:VEVENT
END:VCALENDAR
