BEGIN:VCALENDAR
PRODID:-//Soapbox Engage//Events iCal//EN
VERSION:2.0
METHOD:PUBLISH
BEGIN:VEVENT
DTSTART:20191108T003000Z
DTEND:20191108T013000Z
DTSTAMP:20210725T042744
DESCRIPTION:Join the ACS Colorado Lawyer Chapter and Common Cause for a conversation with Professor Adam&nbsp;Winkler, author of&nbsp;We the Corporations: How American Businesses Won Their Civil Rights.&nbsp;  &nbsp;  We the Corporations&nbsp;chronicles the astonishing story of one of the most successful yet least well-known “civil rights movements” in American history. Although never oppressed like women and minorities, business corporations, too, have fought to win equal rights under the Constitution—and today they have nearly all the same rights as ordinary people. Uncovering the roots of&nbsp;Citizens United, Adam&nbsp;Winkler&nbsp;shows how that controversial Supreme Court decision was the capstone of a two-hundred-year struggle over corporate personhood and constitutional protections for business. Bringing to life the legendary lawyers and justices involved in the dramatic, yet often overlooked, cases that extended our most fundamental rights to corporations—Daniel Webster, Louis Brandeis, Stephen Field, and even Thurgood Marshall—We the Corporations&nbsp;reveals how the nation’s most powerful companies transformed the Constitution into a bulwark against the regulation of big business and a tool to serve the ends of capital.Featuring: Adam Winkler, Professor of Law and ACS Faculty Advisor, UCLA School of Law; Member, ACS Board of Directors and ACS Board of Academic Advisors  Adam Winkler is a specialist in American constitutional law, the U.S. Supreme Court, and gun policy. He is also the author of&nbsp;Gunfight: The Battle over the Right to Bear Arms in America.  &nbsp;  Refreshments will be served.  As the nation’s leading progressive legal organization, ACS is committed to ensuring that all aspects of our events are accessible and enjoyable for all. If you require any accommodations, please contact us either at&nbsp;LCemails@acslaw.org&nbsp;or 202.734.7310.\n\nFor details, click here: http://getinvolved.acslaw.org/index.php?option=com_events&view=event&id=425
SUMMARY:ACS Colorado: "We the Corporations": A Conversation with Adam Winkler
ORGANIZER;CN=American Constitution Society:MAILTO:info@acslaw.org
UID:425-20191107T173000@americanconstitutionsociety.nonprofitsoapbox.com
SEQUENCE:0
END:VEVENT
END:VCALENDAR
