BEGIN:VCALENDAR
PRODID:-//Soapbox Engage//Events iCal//EN
VERSION:2.0
METHOD:PUBLISH
BEGIN:VEVENT
DTSTART:20191010T223000Z
DTEND:20191011T000000Z
DTSTAMP:20210725T042722
DESCRIPTION:Join the ACS New York Lawyer Chapter, Le-Gal, and the Metropolitan Black Bar Association for a panel discussion on the importance of New York state courts and the role they can play in achieving progress. Featuring:Richard Saenz, Senior Attorney and the Criminal Justice and Police Misconduct Strategist, Lambda LegalDawn L. Smalls, Partner, Boies, Schiller &amp; Flexner LLP; Member, ACS National Board of Directors Lilia Toson, Assistant Attorney General, Office of the New York State Attorney General  Moderated By:Lia C. Minkoff, Diversity Chair, ACS New York Lawyer Chapter  1.0 hour of CLE credit is approved for this event.    As the nation’s leading progressive legal organization, ACS is committed to ensuring that all aspects of our events are accessible and enjoyable for all. If you require any accommodations, please contact us either at&nbsp;LCemails@acslaw.org&nbsp;or 202.734.7310.\n\nFor details, click here: http://getinvolved.acslaw.org/index.php?option=com_events&view=event&id=423
SUMMARY:ACS New York: The Future of the Judiciary: Advancing Progressive Goals through New York State Courts
ORGANIZER;CN=American Constitution Society:MAILTO:info@acslaw.org
UID:423-20191010T183000@americanconstitutionsociety.nonprofitsoapbox.com
SEQUENCE:0
END:VEVENT
END:VCALENDAR
