BEGIN:VCALENDAR
PRODID:-//Soapbox Engage//Events iCal//EN
VERSION:2.0
METHOD:PUBLISH
BEGIN:VEVENT
DTSTART:20191108T010000Z
DTEND:20191108T030000Z
DTSTAMP:20210725T043340
DESCRIPTION:CLE Materials:    Amicus brief of the children of Korematsu, Hirabayahi, and Yasui in Trump v. Hawaii  Trump v. Hawaii 2018 U.S. Supreme Court decision  New York Times Op Ed piece authored by Dr. Karen Korematsu  New York Times Op Ed piece authored by Professor Noah Feldman  1984 Federal District Court Decision of Judge Marilyn Hall Patel, Northern District of California reversing Korematsu’s criminal conviction on the grounds of government misconduct  Speech excerpts from July 8, 2017 Keynote Speech by Donald K. Tamaki Commemorating the Opening of the Topaz Internment Camp Museum in Delta, Utah  Excerpted ABA Model Rules of Professional Conduct  Texas Disciplinary Rules of Professional Conduct    Join the ACS Austin Lawyer Chapter, Stop Repeating History, and the National Asian Pacific American Bar Association for a screening and panel discussion of ALTERNATIVE FACTS: The Lies of Executive Order 9066, an award-winning documentary feature film about the false information and political influences which led to the World War II incarceration of Japanese-Americans. ALTERNATIVE FACTS sheds light on the people and politics that influenced the signing of the infamous Executive Order 9066, which authorized the mass incarceration of nearly 120,000 Japanese-Americans. The film exposes the lies used to justify the decision and the cover-up that went all the way to the United States Supreme Court. ALTERNATIVE FACTS will also examine the parallels to the current climate of fear, targeting of immigrant communities, and similar attempts to abuse the powers of the government. Opening Remarks:Michael Dodd, Attorney at Law, Dodd &amp; Batla P.C.; Chair, ACS Austin Lawyer ChapterPanelists:Sehla Ashai, Immigration and Civil Rights AttorneyKaren Korematsu, Executive Director, Fred T. Korematsu InstituteJon Osaki, Director, ALTERNATIVE FACTS: The Lies of Executive Order 9066Kate Richardson, Fellow, Immigrant Justice Corps; Attorney, Refugee and Immigrant Center for Education and Legal Services (RAICES)Don Tamaki, Partner, Minami Tamaki LLPClosing remarks:  Manuel Quinto-Pozos, Partner, Deats, Durst and Owen, PLLC; Board Member, ACS Austin Lawyer ChapterFood and beverages will be served.  0.75 hours of CLE credit (ethics) is available for this program.&nbsp;    As the nation’s leading progressive legal organization, ACS is committed to ensuring that all aspects of our events are accessible and enjoyable for all. If you require any accommodations, please contact us either at&nbsp;LCemails@acslaw.org&nbsp;or 202.734.7310.\n\nFor details, click here: http://getinvolved.acslaw.org/index.php?option=com_events&view=event&id=419
SUMMARY:ACS Austin: “ALTERNATIVE FACTS: The Lies of Executive Order 9066” Screening and Panel Discussion
ORGANIZER;CN=American Constitution Society:MAILTO:info@acslaw.org
UID:419-20191107T190000@americanconstitutionsociety.nonprofitsoapbox.com
SEQUENCE:0
END:VEVENT
END:VCALENDAR
