BEGIN:VCALENDAR
PRODID:-//Soapbox Engage//Events iCal//EN
VERSION:2.0
METHOD:PUBLISH
BEGIN:VEVENT
DTSTART:20190711T160000Z
DTEND:20190711T173000Z
DTSTAMP:20210723T150827
DESCRIPTION:ACS is pleased to invite you to two live recordings next week of the&nbsp;Talking Feds&nbsp;podcast at Georgetown University Law Center: July 9 and July 11.Talking Feds&nbsp;is a roundtable discussion that brings together some of the most well-known former prosecutors in the country for a dynamic and entertaining analysis of the most pressing questions in today's high-profile criminal cases, including the Mueller probe and related investigations.  This series is also co-sponsored by the Institute for Constitutional Advocacy and Protection at Georgetown LawThe July 11 show will preview congressional testimony from Special Counsel Robert Mueller (which is set to take place before the House on July 17), and will feature:Ron Klain, Executive Vice President and General Counsel, Revolution LLC; Former Chief of Staff to Vice President Joe Biden, Vice President Al Gore, and Attorney General Janet Reno; Former Chief Counsel, Senate Judiciary CommitteeMatt Miller, Partner, Vianovo; Former Director of Office of Public Affairs, Department of Justice; Former Communications Director for the House Democratic CaucusAdditional guests TBDLight lunch will be provided, program will begin at 12:30You can find other Talking Feds recordings, including all live shows recorded during the week of July 8,&nbsp;here.\n\nFor details, click here: http://getinvolved.acslaw.org/index.php?option=com_events&view=event&id=352
SUMMARY:Talking Feds Podcast Live Recording on July 11th
ORGANIZER;CN=American Constitution Society:MAILTO:info@acslaw.org
UID:352-20190711T120000@americanconstitutionsociety.nonprofitsoapbox.com
SEQUENCE:0
END:VEVENT
END:VCALENDAR
