BEGIN:VCALENDAR
PRODID:-//Soapbox Engage//Events iCal//EN
VERSION:2.0
METHOD:PUBLISH
BEGIN:VEVENT
DTSTART:20190726T170000Z
DTEND:20190726T180000Z
DTSTAMP:20210723T150806
DESCRIPTION:Join the ACS South Florida Lawyer Chapter for a conference call to discuss expanding the Chapter, plan programming for the upcoming year, and learn more about the Miami progressive legal community.  ACS is the nation’s largest progressive legal network. We strive to ensure that the Constitution and the law work for all people by empowering leaders and informing discourse. To learn more about our network of ACS Lawyer Chapters, click here or join the call to hear from members of ACS staff.Please register to receive dial-in information.\n\nFor details, click here: http://getinvolved.acslaw.org/index.php?option=com_events&view=event&id=350
SUMMARY:ACS South Florida: Lawyer Chapter Expansion Call
ORGANIZER;CN=American Constitution Society:MAILTO:info@acslaw.org
UID:350-20190726T130000@americanconstitutionsociety.nonprofitsoapbox.com
SEQUENCE:0
END:VEVENT
END:VCALENDAR
