BEGIN:VCALENDAR
PRODID:-//Soapbox Engage//Events iCal//EN
VERSION:2.0
METHOD:PUBLISH
BEGIN:VEVENT
DTSTART:20190712T160000Z
DTEND:20190712T173000Z
DTSTAMP:20210723T150430
DESCRIPTION:Join the ACS Chicago Lawyer Chapter, the Public Interest Law Initiative, the ACLU of Illinois, and Mayer Brown LLP for our annual U.S. Supreme Court Term in Review.  Featuring:Susan Bandes, Emeritus Centennial Distinguished Professor of Law, DePaul University College of LawDavid Cole, National Legal Director, ACLU Steven D. Schwinn, Professor, The John Marshall Law School; Member, ACS Chicago Lawyer Chapter Board of Advisors; Editor, ACS Supreme Court ReviewMichael A. Scodro, Partner, Supreme Court and Appellate Litigation Group, Mayer Brown LLPModerated by:Steve Sanders, Professor of Law, Indiana University Maurer School of LawLunch will be generously provided by Mayer Brown LLP.1.25 hours of Illinois MCLE credil is pending for this event.This event is currently full. If you would like to add your name to the waitlist, please do so using the "register" button below.\n\nFor details, click here: http://getinvolved.acslaw.org/index.php?option=com_events&view=event&id=333
SUMMARY:ACS Chicago: Sixteenth Annual U.S. Supreme Court Term in Review
ORGANIZER;CN=American Constitution Society:MAILTO:info@acslaw.org
UID:333-20190712T120000@americanconstitutionsociety.nonprofitsoapbox.com
SEQUENCE:0
END:VEVENT
END:VCALENDAR
