BEGIN:VCALENDAR
PRODID:-//Soapbox Engage//Events iCal//EN
VERSION:2.0
METHOD:PUBLISH
BEGIN:VEVENT
DTSTART:20190714T180000Z
DTEND:20190714T190000Z
DTSTAMP:20210723T150354
DESCRIPTION:Join the ACS Colorado Lawyer Chapter, Colorado Common Cause, Indivisible Denver, and the Tattered Cover for a discussion and book signing with Professor Joshua Douglas on his new book, Vote for US: How to Take Back Our Elections and Change the Future of Voting.In contrast to the anxiety surrounding our voting system, with stories about voter suppression and manipulation, there are actually quite a few positive initiatives with regard to voting rights reform. Professor Douglas, an expert on our electoral system, examines these encouraging developments in his inspiring book about how regular Americans are working to take back their democracy, one community at a time.Featuring:Joshua A. Douglas, Thomas P. Lewis Professor of Law and ACS Faculty Advisor, University of Kentucky College of Law\n\nFor details, click here: http://getinvolved.acslaw.org/index.php?option=com_events&view=event&id=332
SUMMARY:ACS Colorado: "Vote for US" with Josh Douglas
ORGANIZER;CN=American Constitution Society:MAILTO:info@acslaw.org
UID:332-20190714T140000@americanconstitutionsociety.nonprofitsoapbox.com
SEQUENCE:0
END:VEVENT
END:VCALENDAR
