BEGIN:VCALENDAR
PRODID:-//Soapbox Engage//Events iCal//EN
VERSION:2.0
METHOD:PUBLISH
BEGIN:VEVENT
DTSTART:20190625T220000Z
DTEND:20190626T000000Z
DTSTAMP:20210723T150411
DESCRIPTION:Please join the ACS Puget Sound Lawyer Chapter to mingle with other progressive-minded attorneys and for a discussion on the impact of the U.S. Supreme Court decision in Janus v. AFSCME in the year since it was issued. This is a great opportunity to engage with the chapter as it begins to revitalize its presence in the region. All are welcome.Featuring:Charlotte Garden,&nbsp;Co-Associate Dean for Research and Faculty Development, Associate Professor Of Law, and ACS Faculty Advisor, Seattle University School of LawJoe Kendo, Government Affairs Director, Washington State Labor Council, AFL-CIOThe mixer will be held in the loft area.\n\nFor details, click here: http://getinvolved.acslaw.org/index.php?option=com_events&view=event&id=331
SUMMARY:ACS Puget Sound: ACS Mixer: After Janus, Year One
ORGANIZER;CN=American Constitution Society:MAILTO:info@acslaw.org
UID:331-20190625T180000@americanconstitutionsociety.nonprofitsoapbox.com
SEQUENCE:0
END:VEVENT
END:VCALENDAR
