BEGIN:VCALENDAR
PRODID:-//Soapbox Engage//Events iCal//EN
VERSION:2.0
METHOD:PUBLISH
BEGIN:VEVENT
DTSTART:20190801T160000Z
DTEND:20190801T170000Z
DTSTAMP:20210723T150501
DESCRIPTION:Join the ACS Madison Lawyer Chapter and The Madison Institute for part three of our three-part summer series, Court Capture: The Right-Wing Takeover of the Judiciary. The discussion will focus on Judge Charles Schudson's book, Independence Corrupted: How America's Judges Make Their Decisions, an exploration of the impact of donations and external influence on our nation's elected judges.Featuring:The Honorable Charles Schudson (Ret.), former Judge, Wisconsin Court of Appeals; President, KeynoteSeminars1.0 hour of Wisconsin CLE credit is pending for this program.Please do not park in the Foley &amp; Lardner deck. Street parking is available nearby or at James Madison Park.\n\nFor details, click here: http://getinvolved.acslaw.org/index.php?option=com_events&view=event&id=329
SUMMARY:ACS Madison: "Independence Corrupted" with Hon. Charles Schudson
ORGANIZER;CN=American Constitution Society:MAILTO:info@acslaw.org
UID:329-20190801T120000@americanconstitutionsociety.nonprofitsoapbox.com
SEQUENCE:0
END:VEVENT
END:VCALENDAR
