BEGIN:VCALENDAR
PRODID:-//Soapbox Engage//Events iCal//EN
VERSION:2.0
METHOD:PUBLISH
BEGIN:VEVENT
DTSTART:20190717T160000Z
DTEND:20190717T170000Z
DTSTAMP:20210723T150338
DESCRIPTION:Join the ACS Madison Lawyer Chapter and The Madison Institute for part two of our three-part summer series, Court Capture: The Right-Wing Takeover of the Judiciary. The discussion, "How the Right Uses Dark Money and Shadow Organizations to Capture U.S. and State Supreme Courts," will focus on the monetary regime underpinning nationwide efforts to nominate judges to the federal bench who are sympathetic to a far-right agenda.Featuring:Lisa Graves,&nbsp;Co-Director, Documented; former Deputy Assistant Attorney General, U.S. Department of Justice; Researcher, Court Capture: The Right-Wing Takeover of the Judiciary1.0 hour of Wisconsin CLE credit is pending for this program.\n\nFor details, click here: http://getinvolved.acslaw.org/index.php?option=com_events&view=event&id=328
SUMMARY:ACS Madison: How the Right Uses Dark Money and Shadow Organizations to Capture U.S. and State Supreme Courts
ORGANIZER;CN=American Constitution Society:MAILTO:info@acslaw.org
UID:328-20190717T120000@americanconstitutionsociety.nonprofitsoapbox.com
SEQUENCE:0
END:VEVENT
END:VCALENDAR
