BEGIN:VCALENDAR
PRODID:-//Soapbox Engage//Events iCal//EN
VERSION:2.0
METHOD:PUBLISH
BEGIN:VEVENT
DTSTART:20190613T213000Z
DTEND:20190613T233000Z
DTSTAMP:20210723T150217
DESCRIPTION:The ACS Northeast Ohio Chapter invites you to its first summer social. Join our members and fellow progressive attorneys for an evening of scintillating conversation, food, and drink. All are welcome and encouraged to attend. The summer social is an excellent opportunity for law students, summer associates, and new members to meet our chapter’s members and learn about all the opportunities ACS provides.\n\nFor details, click here: http://getinvolved.acslaw.org/index.php?option=com_events&view=event&id=327
SUMMARY:ACS Northeast Ohio: Summer Social
ORGANIZER;CN=American Constitution Society:MAILTO:info@acslaw.org
UID:327-20190613T173000@americanconstitutionsociety.nonprofitsoapbox.com
SEQUENCE:0
END:VEVENT
END:VCALENDAR
