BEGIN:VCALENDAR
PRODID:-//Soapbox Engage//Events iCal//EN
VERSION:2.0
METHOD:PUBLISH
BEGIN:VEVENT
DTSTART:20190612T220000Z
DTEND:20190613T000000Z
DTSTAMP:20210723T150258
DESCRIPTION:Please join the ACS Los Angeles Lawyer Chapter for a happy hour to kick off the summer. This is a great opportunity to network with other progressive lawyers and learn about upcoming events and pro bono opportunities. Newcomers are always welcome, lawyers and law students in equal measure.We will be in the main seating area near the bar. We look forward to seeing you there!\n\nFor details, click here: http://getinvolved.acslaw.org/index.php?option=com_events&view=event&id=326
SUMMARY:ACS Los Angeles: Summer Mixer at Golden Road Brewing Co.
ORGANIZER;CN=American Constitution Society:MAILTO:info@acslaw.org
UID:326-20190612T180000@americanconstitutionsociety.nonprofitsoapbox.com
SEQUENCE:0
END:VEVENT
END:VCALENDAR
