BEGIN:VCALENDAR
PRODID:-//Soapbox Engage//Events iCal//EN
VERSION:2.0
METHOD:PUBLISH
BEGIN:VEVENT
DTSTART:20190619T220000Z
DTEND:20190620T000000Z
DTSTAMP:20210723T150319
DESCRIPTION:Join the ACS Los Angeles Lawyer Chapter for a panel discussion on recent litigation concerning the upcoming 2020 Census, including a recap of the April 23 U.S. Supreme Court oral argument in Department of Commerce v. New York, challenging the validity of a census question regarding citizenship status.Featuring:Matt Barreto, Professor of Political Science and Chicana/o Studies, University of California, Los AngelesJulia Gomez, Staff Attorney, Mexican American Legal Defense and Education Fund (MALDEF)Justin Levitt, Associate Dean, Professor of Constitutional Law, and ACS Faculty Advisor,&nbsp;Loyola Law SchoolMark Rosenbaum, Director of Opportunity Under Law, Public CounselModerated by:Adam Winkler, Professor of Law and ACS Faculty Advisor, UCLA School of Law; Member, ACS National Board of Directors and Board of Academic Advisors\n\nFor details, click here: http://getinvolved.acslaw.org/index.php?option=com_events&view=event&id=325
SUMMARY:ACS Los Angeles: Fighting to be Counted: Census Litigation at the U.S. Supreme Court
ORGANIZER;CN=American Constitution Society:MAILTO:info@acslaw.org
UID:325-20190619T180000@americanconstitutionsociety.nonprofitsoapbox.com
SEQUENCE:0
END:VEVENT
END:VCALENDAR
