BEGIN:VCALENDAR
PRODID:-//Soapbox Engage//Events iCal//EN
VERSION:2.0
METHOD:PUBLISH
BEGIN:VEVENT
DTSTART:20190607T180000Z
DTEND:20190607T190000Z
DTSTAMP:20210723T150202
DESCRIPTION:Join the ACS Bay Area Lawyer Chapter for a discussion with Congressman John Sarbanes (MD-03) and Tiffany Muller about efforts in Congress to overhaul the current campaign finance system and break lawmaker dependence on big money and special interests.Featuring:The Honorable John Sarbanes, U.S. Representative for the 3rd District of Maryland; Chair, Democracy Reform Task ForceTiffanny Muller, President, End Citizens UnitedThank you to Keker, Van Nest &amp; Peters LLP for generously hosting this event.ACS is a nonprofit 501(c)(3) educational organization. It does not take positions on candidates and legislation.\n\nFor details, click here: http://getinvolved.acslaw.org/index.php?option=com_events&view=event&id=324
SUMMARY:ACS Bay Area: Fighting Corruption & Fixing Democracy
ORGANIZER;CN=American Constitution Society:MAILTO:info@acslaw.org
UID:324-20190607T140000@americanconstitutionsociety.nonprofitsoapbox.com
SEQUENCE:0
END:VEVENT
END:VCALENDAR
