BEGIN:VCALENDAR
PRODID:-//Soapbox Engage//Events iCal//EN
VERSION:2.0
METHOD:PUBLISH
BEGIN:VEVENT
DTSTART:20190710T213000Z
DTEND:20190710T230000Z
DTSTAMP:20210723T150132
DESCRIPTION:Join the ACS Washington, DC Lawyer Chapter and DC-area ACS Student Chapters for a panel discussion on strategies that law students and new lawyers can use to land a clerkship.Introductory Remarks:Abram Ellis,&nbsp;Partner, Simpson Thacher &amp; Bartlett LLPFeaturing:Hon. Marisa Demeo, Associate Judge, Superior Court of the District of ColumbiaHon. Ketanji Brown Jackson, Judge, U.S. District Court for the District of ColumbiaHon. Patricia A. Millett, Judge, U.S. Court of Appeals for the District of Columbia CircuitHon. Michael Nachmanoff, Magistrate Judge, U.S. District Court for the Eastern District of VirginiaModerated by:Gregory M. Lipper, Partner, Clinton &amp; Peed; Member, ACS Washington, DC Lawyer Chapter Board of DirectorsThe program will begin with a reception at 5:30 p.m. The panel discussion will begin at 6:00 p.m.Thank you to Simpson Thacher &amp; Bartlett LLP for generously hosting this event.\n\nFor details, click here: http://getinvolved.acslaw.org/index.php?option=com_events&view=event&id=323
SUMMARY:ACS Washington, DC: How to Land a Clerkship: Practical Advice from Judges
ORGANIZER;CN=American Constitution Society:MAILTO:info@acslaw.org
UID:323-20190710T173000@americanconstitutionsociety.nonprofitsoapbox.com
SEQUENCE:0
END:VEVENT
END:VCALENDAR
