BEGIN:VCALENDAR
PRODID:-//Soapbox Engage//Events iCal//EN
VERSION:2.0
METHOD:PUBLISH
BEGIN:VEVENT
DTSTART:20190626T160000Z
DTEND:20190626T173000Z
DTSTAMP:20210723T150147
DESCRIPTION:Join the ACS Milwaukee Lawyer Chapter for a discussion on efforts by the current administration and Senate leadership to undermine the judicial nominations process and swing our federal judiciary firmly to the right.Featuring:William P. Marshall, William Rand Keenan, Jr. Distinguished Professor of Law, UNC School of Law; former Deputy White House Counsel and Solicitor General of Ohio; Member, ACS National Board of Advisors and Board of Academic Advisors\n\nFor details, click here: http://getinvolved.acslaw.org/index.php?option=com_events&view=event&id=322
SUMMARY:ACS Milwaukee: The Conservative Takeover of the Federal Judiciary and its Implications Going Forward
ORGANIZER;CN=American Constitution Society:MAILTO:info@acslaw.org
UID:322-20190626T120000@americanconstitutionsociety.nonprofitsoapbox.com
SEQUENCE:0
END:VEVENT
END:VCALENDAR
