BEGIN:VCALENDAR
PRODID:-//Soapbox Engage//Events iCal//EN
VERSION:2.0
METHOD:PUBLISH
BEGIN:VEVENT
DTSTART:20190606T160000Z
DTEND:20190606T170000Z
DTSTAMP:20210723T150059
DESCRIPTION:In November 2018, a ballot initiative to restore voting rights to Floridians with a felony conviction passed in a 65-35 landslide. But today in Tennessee, more than 420,000 individuals with a past conviction are barred from the ballot box -- a higher rate than nearly every other state.Join the ACS Nashville Chapter to learn more about voting rights restoration reforms nationally and in Tennessee. What challenges do individuals face when trying to restore their right to vote? And what's being done about it?&nbsp;Featuring:Tom Castelli, Legal Director, ACLU of TennesseeBettie Kirkland, Executive Director of Project Return, &amp;Mariana Rodriguez, Policy and Research Director for ThinkTennessee​​​​​​​1.0 hour of Tennessee CLE credit has been approved for this program.Doors open at 11:45 a.m. Lunch will be provided.  &nbsp;\n\nFor details, click here: http://getinvolved.acslaw.org/index.php?option=com_events&view=event&id=320
SUMMARY:ACS Nashville: Voting with Conviction: Voting Rights Restoration in Tennessee and Beyond
ORGANIZER;CN=American Constitution Society:MAILTO:info@acslaw.org
UID:320-20190606T120000@americanconstitutionsociety.nonprofitsoapbox.com
SEQUENCE:0
END:VEVENT
END:VCALENDAR
