BEGIN:VCALENDAR
PRODID:-//Soapbox Engage//Events iCal//EN
VERSION:2.0
METHOD:PUBLISH
BEGIN:VEVENT
DTSTART:20190610T210000Z
DTEND:20190610T221500Z
DTSTAMP:20210723T150043
DESCRIPTION:On June 10, 1919, Wisconsin became the first state to ratify the 19th Amendment to the U.S. Constitution, eventually adopted in August 1920. Join the Milwaukee County Historical Society, the ACS Milwaukee Lawyer Chapter, and the League of Women Voters of Milwaukee County in kicking off a year of commemoration and celebration. Featuring:Dr. Genevieve McBride, Author, On Wisconsin Women: Working for Their Rights from Settlement to SuffrageAnniversary cake will be served. A cash bar will be available.White attire optional (in honor of suffragists).\n\nFor details, click here: http://getinvolved.acslaw.org/index.php?option=com_events&view=event&id=319
SUMMARY:ACS Milwaukee: Celebrating 100 Years of Votes for Women: Wisconsin Leading the Way to the 19th Amendment
ORGANIZER;CN=American Constitution Society:MAILTO:info@acslaw.org
UID:319-20190610T170000@americanconstitutionsociety.nonprofitsoapbox.com
SEQUENCE:0
END:VEVENT
END:VCALENDAR
