BEGIN:VCALENDAR
PRODID:-//Soapbox Engage//Events iCal//EN
VERSION:2.0
METHOD:PUBLISH
BEGIN:VEVENT
DTSTART:20190620T223000Z
DTEND:20190620T233000Z
DTSTAMP:20210723T150010
DESCRIPTION:Join Capitol Books and the ACS Sacramento Lawyer Chapter for a discussion with ACS President Caroline Fredrickson on her new book, The Democracy Fix: How to Win the Fight for Fair Rules, Fair Courts, and Fair Elections. Fredrickson analyzes how the right has seized power at every level of government. She demonstrates how the right ruthlessly focuses on building intellectual capital, winning elections, selecting judges, changing legal rules, promoting fake news, gerrymandering, and suppressing the vote—and then shows how progressives can take government back with their own disciplined and principled counter-attack.Featuring:Caroline Fredrickson, President, American Constitution Society\n\nFor details, click here: http://getinvolved.acslaw.org/index.php?option=com_events&view=event&id=318
SUMMARY:ACS Sacramento: "The Democracy Fix" with Caroline Fredrickson
ORGANIZER;CN=American Constitution Society:MAILTO:info@acslaw.org
UID:318-20190620T183000@americanconstitutionsociety.nonprofitsoapbox.com
SEQUENCE:0
END:VEVENT
END:VCALENDAR
