BEGIN:VCALENDAR
PRODID:-//Soapbox Engage//Events iCal//EN
VERSION:2.0
METHOD:PUBLISH
BEGIN:VEVENT
DTSTART:20190627T160000Z
DTEND:20190627T173000Z
DTSTAMP:20210723T150026
DESCRIPTION:Registration has closed for this event.  Join the ACS Bay Area Lawyer Chapter and a distinguished panel of U.S. Supreme Court experts for a lively discussion of the significant cases of the 2018-2019 Term, including major cases on partisan gerrymandering, the 2020 Census, the First Amendment, economic justice, and when to overturn precedent.Featuring:Aimee Feinberg, Deputy Solicitor General, California Department of JusticeRory Little, Professor of Law, U.C. Hastings College of the LawThe Honorable Goodwin Liu, Associate Justice, Supreme Court of CaliforniaModerated by:Brian Goldman,&nbsp;Supreme Court &amp; Appellate Practice, Orrick, Herrington &amp; Sutcliffe LLP; Member, ACS Bay Area Lawyer Chapter Board of Directors1.0 hour of California MCLE credit has been approved for this program. Lunch will be generously provided by Orrick, Herrington &amp; Sutcliffe LLP.\n\nFor details, click here: http://getinvolved.acslaw.org/index.php?option=com_events&view=event&id=317
SUMMARY:ACS Bay Area: U.S. Supreme Court Term in Review
ORGANIZER;CN=American Constitution Society:MAILTO:info@acslaw.org
UID:317-20190627T120000@americanconstitutionsociety.nonprofitsoapbox.com
SEQUENCE:0
END:VEVENT
END:VCALENDAR
