BEGIN:VCALENDAR
PRODID:-//Soapbox Engage//Events iCal//EN
VERSION:2.0
METHOD:PUBLISH
BEGIN:VEVENT
DTSTART:20190617T213000Z
DTEND:20190618T003000Z
DTSTAMP:20210723T145954
DESCRIPTION:Annual Membership MeetingPlease join the ACS Oregon Lawyer Chapter for our annual membership meeting and happy hour. Come out to learn about updates from the Chapter, meet up with your fellow members, and network with other progressive attorneys. All are invited.Monday, June 17, 20195:30 p.m. - 7:30 p.m. PTMcMenamins Back Stage BarKimball Room3702 SE Hawthorne BoulevardPortland, OR 97214The Democracy Fix with Caroline FredricksonAfter the annual membership meeting, join the ACS Oregon Lawyer Chapter across the street from McMenamin's at Powell's Books for a discussion with ACS President Caroline Fredrickson on her new book, The Democracy Fix: How to Win the Fight for Fair Rules, Fair Courts, and Fair Elections. Fredrickson analyzes how the right has seized power at every level of government. She demonstrates how the right ruthlessly focuses on building intellectual capital, winning elections, selecting judges, changing legal rules, promoting fake news, gerrymandering, and suppressing the vote—and then shows how progressives can take government back with their own disciplined and principled counter-attack.Featuring:Caroline Fredrickson, President, American Constitution SocietyMonday, June 17, 20197:30 p.m. - 8:30 p.m. PTPowell's Books on Hawthorne3723 SE Hawthorne BoulevardPortland, OR 97214\n\nFor details, click here: http://getinvolved.acslaw.org/index.php?option=com_events&view=event&id=316
SUMMARY:ACS Oregon: "The Democracy Fix" with Caroline Fredrickson & Annual Membership Meeting
ORGANIZER;CN=American Constitution Society:MAILTO:info@acslaw.org
UID:316-20190617T173000@americanconstitutionsociety.nonprofitsoapbox.com
SEQUENCE:0
END:VEVENT
END:VCALENDAR
