BEGIN:VCALENDAR
PRODID:-//Soapbox Engage//Events iCal//EN
VERSION:2.0
METHOD:PUBLISH
BEGIN:VEVENT
DTSTART:20190614T160000Z
DTEND:20190614T173000Z
DTSTAMP:20210723T145855
DESCRIPTION:Join the ACS Minneapolis-St. Paul Lawyer Chapter for a talk with Minnesota Supreme Court Justice David Lillehaug about separation of powers issues; recent inter-branch disputes, such as governmental shutdowns and legislative investigations; and the judiciary’s role in resolving them.Featuring:The Honorable David Lillehaug, Associate Justice, Minnesota Supreme CourtLunch will be generously provided by Fredrikson and Byron, P.A.  1.5 hours of Minnesota CLE credit are pending for this program.\n\nFor details, click here: http://getinvolved.acslaw.org/index.php?option=com_events&view=event&id=315
SUMMARY:ACS Minneapolis-St. Paul: Reflections on the Separation of Powers
ORGANIZER;CN=American Constitution Society:MAILTO:info@acslaw.org
UID:315-20190614T120000@americanconstitutionsociety.nonprofitsoapbox.com
SEQUENCE:0
END:VEVENT
END:VCALENDAR
